BEGIN:VCALENDAR
VERSION:2.0
PRODID:-//wp-events-plugin.com//6.4.6.4//EN
TZID:Europe/Berlin
X-WR-TIMEZONE:Europe/Berlin
BEGIN:VEVENT
UID:130@albverein-engstlatt.de
DTSTART;TZID=Europe/Berlin:20261009T193000
DTEND;TZID=Europe/Berlin:20261009T193000
DTSTAMP:20251208T095545Z
URL:https://albverein-engstlatt.de/events/zliacht-abend-9/
SUMMARY:z`Liacht-Abend
DESCRIPTION:.Am Freitag\, 9. Oktober\, um 19.30 Uhr lädt der Albverein zum
  z`Liacht-Abend im Albvereinsraum im Rathaus in Engstlatt ein. Gudrun und 
 Joachim Bay freuen sich über Besucher. Gerne dürfen Handarbeiten\, Spiel
 e\, Geschichten oder Bilder mitgebracht werden
CATEGORIES:Heimat &amp; Kultur,Z'Liacht
LOCATION:Rathaus Engstlatt\, Im Hof 9\, Balingen\, Baden-Württemberg\, 723
 36\, Deutschland
X-APPLE-STRUCTURED-LOCATION;VALUE=URI;X-ADDRESS=Im Hof 9\, Balingen\, Baden
 -Württemberg\, 72336\, Deutschland;X-APPLE-RADIUS=100;X-TITLE=Rathaus Eng
 stlatt:geo:0,0
END:VEVENT
BEGIN:VTIMEZONE
TZID:Europe/Berlin
X-LIC-LOCATION:Europe/Berlin
BEGIN:DAYLIGHT
DTSTART:20260329T030000
TZOFFSETFROM:+0100
TZOFFSETTO:+0200
TZNAME:CEST
END:DAYLIGHT
END:VTIMEZONE
END:VCALENDAR