BEGIN:VCALENDAR
VERSION:2.0
PRODID:-//wp-events-plugin.com//6.4.6.4//EN
TZID:Europe/Berlin
X-WR-TIMEZONE:Europe/Berlin
BEGIN:VEVENT
UID:132@albverein-engstlatt.de
DTSTART;TZID=Europe/Berlin:20261211T193000
DTEND;TZID=Europe/Berlin:20261211T193000
DTSTAMP:20251208T095814Z
URL:https://albverein-engstlatt.de/events/zliacht-abend-11/
SUMMARY:z`Liacht-Abend
DESCRIPTION:.Am Freitag\, 11.Dezember\, um 19.30 Uhr lädt der Albverein zu
 m z`Liacht-Abend im Albvereinsraum im Rathaus in Engstlatt ein. Gudrun und
  Joachim Bay freuen sich über Besucher. Gerne dürfen Handarbeiten\, Spie
 le\, Geschichten oder Bilder mitgebracht werden
CATEGORIES:Heimat &amp; Kultur,Z'Liacht
LOCATION:Rathaus Engstlatt\, Im Hof 9\, Balingen\, Baden-Württemberg\, 723
 36\, Deutschland
X-APPLE-STRUCTURED-LOCATION;VALUE=URI;X-ADDRESS=Im Hof 9\, Balingen\, Baden
 -Württemberg\, 72336\, Deutschland;X-APPLE-RADIUS=100;X-TITLE=Rathaus Eng
 stlatt:geo:0,0
END:VEVENT
BEGIN:VTIMEZONE
TZID:Europe/Berlin
X-LIC-LOCATION:Europe/Berlin
BEGIN:STANDARD
DTSTART:20261025T020000
TZOFFSETFROM:+0200
TZOFFSETTO:+0100
TZNAME:CET
END:STANDARD
END:VTIMEZONE
END:VCALENDAR