BEGIN:VCALENDAR
VERSION:2.0
PRODID:-//wp-events-plugin.com//6.4.6.4//EN
TZID:Europe/Berlin
X-WR-TIMEZONE:Europe/Berlin
BEGIN:VEVENT
UID:127@albverein-engstlatt.de
DTSTART;TZID=Europe/Berlin:20260905T000000
DTEND;TZID=Europe/Berlin:20260911T000000
DTSTAMP:20251127T101354Z
URL:https://albverein-engstlatt.de/events/wanderwoche-in-suedtirol-2/
SUMMARY:Wanderwoche in Südtirol
DESCRIPTION:Vom Samstag\, 5. September bis Freitag\, 11. September\, lädt 
 der Albverein zur Wanderwoche in Südtirol - Rosengarten ein. Anmeldung er
 forderlich. Info und Anmeldung bei Isolde und Wolfgang Schwarz\, Tel. 0743
 3 / 273260.
CATEGORIES:Mehrtageswanderung,Wandern
END:VEVENT
BEGIN:VTIMEZONE
TZID:Europe/Berlin
X-LIC-LOCATION:Europe/Berlin
BEGIN:DAYLIGHT
DTSTART:20260329T030000
TZOFFSETFROM:+0100
TZOFFSETTO:+0200
TZNAME:CEST
END:DAYLIGHT
END:VTIMEZONE
END:VCALENDAR