BEGIN:VCALENDAR
VERSION:2.0
PRODID:-//wp-events-plugin.com//6.4.6.4//EN
TZID:Europe/Berlin
X-WR-TIMEZONE:Europe/Berlin
BEGIN:VEVENT
UID:136@albverein-engstlatt.de
DTSTART;TZID=Europe/Berlin:20261024T180000
DTEND;TZID=Europe/Berlin:20261024T180000
DTSTAMP:20251208T100556Z
URL:https://albverein-engstlatt.de/events/wanderer-hock/
SUMMARY:Wanderer Hock.
DESCRIPTION:Am Samstag\, 24. Oktober\, lädt der Albverein zum Jahresrückb
 lick mit Ehrungen im Gasthaus Ochsen in Engstlatt ein. Dieses Jahr werden 
 14 Jubilare für 675 Jahre Mitgliedschaft geehrt. Beginn ist um 18.00 Uhr 
 mit der Einkehr.
CATEGORIES:Heimat &amp; Kultur,Veranstaltung
LOCATION:Gasthaus Ochsen\, Schweizer Straße 1\, Balingen-Engstlatt\, Baden
 -Württemberg\, 72336\, Deutschland
X-APPLE-STRUCTURED-LOCATION;VALUE=URI;X-ADDRESS=Schweizer Straße 1\, Balin
 gen-Engstlatt\, Baden-Württemberg\, 72336\, Deutschland;X-APPLE-RADIUS=10
 0;X-TITLE=Gasthaus Ochsen:geo:0,0
END:VEVENT
BEGIN:VTIMEZONE
TZID:Europe/Berlin
X-LIC-LOCATION:Europe/Berlin
BEGIN:DAYLIGHT
DTSTART:20260329T030000
TZOFFSETFROM:+0100
TZOFFSETTO:+0200
TZNAME:CEST
END:DAYLIGHT
END:VTIMEZONE
END:VCALENDAR