BEGIN:VCALENDAR
VERSION:2.0
PRODID:-//wp-events-plugin.com//6.4.6.4//EN
TZID:Europe/Berlin
X-WR-TIMEZONE:Europe/Berlin
BEGIN:VEVENT
UID:116@albverein-engstlatt.de
DTSTART;TZID=Europe/Berlin:20260503T090000
DTEND;TZID=Europe/Berlin:20260503T110000
DTSTAMP:20251127T094903Z
URL:https://albverein-engstlatt.de/events/vogelstimmen-und-naturfuehrung-2
 /
SUMMARY:Vogelstimmen- und Naturführung
DESCRIPTION:Am Sonntag\, 3. Mai\, lädt der Albverein und der Naturschutzbu
 nd zu einer Vogelstimmen- und Naturführung für Familien ein. Unterwegs i
 n heimischen Streuobstwiesen und Wäldern. Ferngläser bitte mitbringen. T
 reffpunkt ist um 9.00 Uhr am oberen Friedhof Parkplatz in Engstlatt. Die F
 ührung hat Peter Faber.
CATEGORIES:Familie,Heimat &amp; Kultur,Jugend,Natur
LOCATION:Friedhof-Parkplatz\, Mühlsteigstraße\, 72336 Balingen\, Engstlat
 t\, Deutschland
X-APPLE-STRUCTURED-LOCATION;VALUE=URI;X-ADDRESS=Mühlsteigstraße\, 72336 B
 alingen\, Engstlatt\, Deutschland;X-APPLE-RADIUS=100;X-TITLE=Friedhof-Park
 platz:geo:0,0
END:VEVENT
BEGIN:VTIMEZONE
TZID:Europe/Berlin
X-LIC-LOCATION:Europe/Berlin
BEGIN:DAYLIGHT
DTSTART:20260329T030000
TZOFFSETFROM:+0100
TZOFFSETTO:+0200
TZNAME:CEST
END:DAYLIGHT
END:VTIMEZONE
END:VCALENDAR