BEGIN:VCALENDAR
VERSION:2.0
PRODID:-//wp-events-plugin.com//6.4.6.4//EN
TZID:Europe/Berlin
X-WR-TIMEZONE:Europe/Berlin
BEGIN:VEVENT
UID:117@albverein-engstlatt.de
DTSTART;TZID=Europe/Berlin:20260517T110000
DTEND;TZID=Europe/Berlin:20260517T110000
DTSTAMP:20251127T095042Z
URL:https://albverein-engstlatt.de/events/tageswanderung-im-donautal/
SUMMARY:Tageswanderung im Donautal
DESCRIPTION:Am Sonntag\, 17. Mai\, lädt der Albverein zu einer Wanderung i
 m Donautal ein. Strecke: Inzigkofen – Nickhof – Ruine Gebrochen Gutens
 tein – Teufelslochfelsen – Kreuzfelsen – Gutenstein – Dietfurt– 
 Inzigkofen. Die Strecke ist 12 km lang mit 140 Höhenmetern und die Gehzei
 t beträgt 4 Stunden. Die Anfahrt erfolgt mit Privatauto. Mitfahrgelegenhe
 it ist gegeben. Abfahrt ist um 11.00 Uhr am Bahnhof in Engstlatt. Die Füh
 rung hat Wolfgang Schwarz.
CATEGORIES:Tageswanderung,Wandern
LOCATION:Bahnhof Engstlatt\, Kleine Hörnlestraße\, Balingen-Engstlatt\, B
 aden-Württemberg\, 72336\, Deutschland
X-APPLE-STRUCTURED-LOCATION;VALUE=URI;X-ADDRESS=Kleine Hörnlestraße\, Bal
 ingen-Engstlatt\, Baden-Württemberg\, 72336\, Deutschland;X-APPLE-RADIUS=
 100;X-TITLE=Bahnhof Engstlatt:geo:0,0
END:VEVENT
BEGIN:VTIMEZONE
TZID:Europe/Berlin
X-LIC-LOCATION:Europe/Berlin
BEGIN:DAYLIGHT
DTSTART:20260329T030000
TZOFFSETFROM:+0100
TZOFFSETTO:+0200
TZNAME:CEST
END:DAYLIGHT
END:VTIMEZONE
END:VCALENDAR