BEGIN:VCALENDAR
VERSION:2.0
PRODID:-//wp-events-plugin.com//6.4.6.4//EN
TZID:Europe/Berlin
X-WR-TIMEZONE:Europe/Berlin
BEGIN:VEVENT
UID:129@albverein-engstlatt.de
DTSTART;TZID=Europe/Berlin:20260920T110000
DTEND;TZID=Europe/Berlin:20260920T110000
DTSTAMP:20251127T101908Z
URL:https://albverein-engstlatt.de/events/tageswanderung-bei-wehingen/
SUMMARY:Tageswanderung bei Wehingen
DESCRIPTION:Am Sonntag\, 20. September\, lädt der Albverein zu einer Wande
 rung bei Wehingen\, auf den Lemberg – Drei Mal über 1000 m ein. Die Str
 ecke: Parkplatz am Bürgle – Lemberg – Oberhohenberg – Hochberg – 
 Wehingen. Die Strecke ist 11 km lang mit 360 Höhenmetern und die Gehzeit 
 beträgt 3\,5 Stunden. Die Anfahrt erfolgt mit Privatauto. Mitfahrgelegenh
 eit ist gegeben. Abfahrt ist um 11.00 Uhr am Bahnhof in Engstlatt. Die Fü
 hrung hat Wolfgang Schwarz.
CATEGORIES:Tageswanderung,Wandern
LOCATION:Bahnhof Engstlatt\, Kleine Hörnlestraße\, Balingen-Engstlatt\, B
 aden-Württemberg\, 72336\, Deutschland
X-APPLE-STRUCTURED-LOCATION;VALUE=URI;X-ADDRESS=Kleine Hörnlestraße\, Bal
 ingen-Engstlatt\, Baden-Württemberg\, 72336\, Deutschland;X-APPLE-RADIUS=
 100;X-TITLE=Bahnhof Engstlatt:geo:0,0
END:VEVENT
BEGIN:VTIMEZONE
TZID:Europe/Berlin
X-LIC-LOCATION:Europe/Berlin
BEGIN:DAYLIGHT
DTSTART:20260329T030000
TZOFFSETFROM:+0100
TZOFFSETTO:+0200
TZNAME:CEST
END:DAYLIGHT
END:VTIMEZONE
END:VCALENDAR