BEGIN:VCALENDAR
VERSION:2.0
PRODID:-//wp-events-plugin.com//6.4.6.4//EN
TZID:Europe/Berlin
X-WR-TIMEZONE:Europe/Berlin
BEGIN:VEVENT
UID:119@albverein-engstlatt.de
DTSTART;TZID=Europe/Berlin:20260614T110000
DTEND;TZID=Europe/Berlin:20260614T110000
DTSTAMP:20251127T095807Z
URL:https://albverein-engstlatt.de/events/tageswanderung-bei-tennenbronn/
SUMMARY:Tageswanderung bei Tennenbronn
DESCRIPTION:Am Sonntag\, 14. Juni\, lädt der Albverein zu einer Wanderung 
 bei Tennenbronn\, auf dem Auerhahnweg ein. Die Strecke: Wanderparkplatz Re
 msbach – Naturpark AugenBlick – Sulzbachblick – Auerhahnbalzplatz 
 – Eichbachtal – Pfarrwald – Remsbachhof. Die Strecke ist 10\,5 km la
 ng mit 285 Höhenmetern und die Gehzeit beträgt 3 Stunden. Die Anfahrt er
 folgt mit Privatauto. Mitfahrgelegenheit ist gegeben. Abfahrt ist um 11.00
  Uhr am Bahnhof in Engstlatt. Die Führung hat Isolde Schwarz.
CATEGORIES:Tageswanderung,Wandern
LOCATION:Bahnhof Engstlatt\, Kleine Hörnlestraße\, Balingen-Engstlatt\, B
 aden-Württemberg\, 72336\, Deutschland
X-APPLE-STRUCTURED-LOCATION;VALUE=URI;X-ADDRESS=Kleine Hörnlestraße\, Bal
 ingen-Engstlatt\, Baden-Württemberg\, 72336\, Deutschland;X-APPLE-RADIUS=
 100;X-TITLE=Bahnhof Engstlatt:geo:0,0
END:VEVENT
BEGIN:VTIMEZONE
TZID:Europe/Berlin
X-LIC-LOCATION:Europe/Berlin
BEGIN:DAYLIGHT
DTSTART:20260329T030000
TZOFFSETFROM:+0100
TZOFFSETTO:+0200
TZNAME:CEST
END:DAYLIGHT
END:VTIMEZONE
END:VCALENDAR