BEGIN:VCALENDAR
VERSION:2.0
PRODID:-//wp-events-plugin.com//6.4.6.4//EN
TZID:Europe/Berlin
X-WR-TIMEZONE:Europe/Berlin
BEGIN:VEVENT
UID:126@albverein-engstlatt.de
DTSTART;TZID=Europe/Berlin:20260816T100000
DTEND;TZID=Europe/Berlin:20260816T100000
DTSTAMP:20251127T101214Z
URL:https://albverein-engstlatt.de/events/tageswanderung-bei-obernheim-2/
SUMMARY:Tageswanderung bei Obernheim
DESCRIPTION:Am Sonntag\, 16. August\, lädt der Albverein zu einer Wanderun
 g bei Obernheim ein. Die Strecke ist 12 km lang und die Gehzeit beträgt 4
  Stunden. Die Anfahrt erfolgt mit Privatauto. Mitfahrgelegenheit ist gegeb
 en. Abfahrt ist um 10.00 Uhr am Bahnhof in Engstlatt. Die Führung hat Wil
 li Stengel.
CATEGORIES:Tageswanderung,Wandern
LOCATION:Bahnhof Engstlatt\, Kleine Hörnlestraße\, Balingen-Engstlatt\, B
 aden-Württemberg\, 72336\, Deutschland
X-APPLE-STRUCTURED-LOCATION;VALUE=URI;X-ADDRESS=Kleine Hörnlestraße\, Bal
 ingen-Engstlatt\, Baden-Württemberg\, 72336\, Deutschland;X-APPLE-RADIUS=
 100;X-TITLE=Bahnhof Engstlatt:geo:0,0
END:VEVENT
BEGIN:VTIMEZONE
TZID:Europe/Berlin
X-LIC-LOCATION:Europe/Berlin
BEGIN:DAYLIGHT
DTSTART:20260329T030000
TZOFFSETFROM:+0100
TZOFFSETTO:+0200
TZNAME:CEST
END:DAYLIGHT
END:VTIMEZONE
END:VCALENDAR