BEGIN:VCALENDAR
VERSION:2.0
PRODID:-//wp-events-plugin.com//6.4.6.4//EN
TZID:Europe/Berlin
X-WR-TIMEZONE:Europe/Berlin
BEGIN:VEVENT
UID:121@albverein-engstlatt.de
DTSTART;TZID=Europe/Berlin:20260620T180000
DTEND;TZID=Europe/Berlin:20260620T180000
DTSTAMP:20251127T100049Z
URL:https://albverein-engstlatt.de/events/sonnwendfeier/
SUMMARY:Sonnwendfeier
DESCRIPTION:Am Samstag\, 20. Juni\, findet die Sonnwendfeier auf dem Netzen
 berg in Engstlatt statt. Grillfeuer ist vorhanden\, Grillgut und Vesper bi
 tte mitbringen. Getränkeabgabe gegen Spende möglich. Beginn ist um 18.00
  Uhr. Die Leitung hat Sven Ewerling.
CATEGORIES:Familie,Heimat &amp; Kultur,Natur,Veranstaltung
LOCATION:Netzenberg Engstlatt\, Netzenberg\, Balingen-Engstlatt\, Baden-Wü
 rttemberg\, 72336\, Deutschland
X-APPLE-STRUCTURED-LOCATION;VALUE=URI;X-ADDRESS=Netzenberg\, Balingen-Engst
 latt\, Baden-Württemberg\, 72336\, Deutschland;X-APPLE-RADIUS=100;X-TITLE
 =Netzenberg Engstlatt:geo:0,0
END:VEVENT
BEGIN:VTIMEZONE
TZID:Europe/Berlin
X-LIC-LOCATION:Europe/Berlin
BEGIN:DAYLIGHT
DTSTART:20260329T030000
TZOFFSETFROM:+0100
TZOFFSETTO:+0200
TZNAME:CEST
END:DAYLIGHT
END:VTIMEZONE
END:VCALENDAR