BEGIN:VCALENDAR
VERSION:2.0
PRODID:-//wp-events-plugin.com//6.4.6.4//EN
TZID:Europe/Berlin
X-WR-TIMEZONE:Europe/Berlin
BEGIN:VEVENT
UID:112@albverein-engstlatt.de
DTSTART;TZID=Europe/Berlin:20260408T133000
DTEND;TZID=Europe/Berlin:20260408T183000
DTSTAMP:20260123T161721Z
URL:https://albverein-engstlatt.de/events/mittwochswandertreff-beim-hohenz
 ollern/
SUMMARY:Mittwochswandertreff beim Hohenzollern
DESCRIPTION:Am 08. April\, lädt der Albverein zu einer Wanderung beim Hohe
 nzollern ein. Die Strecke ist ca. 5\,5 km lang und die Gehzeit beträgt ca
 . 2 Stunden. Die Anfahrt erfolgt mit Privatauto. Mitfahrgelegenheit ist ge
 geben. Abfahrt ist um 13.30 Uhr beim Rathaus in Engstlatt. Die Führung ha
 t Beate Wuhrer.
CATEGORIES:Mittwochswanderung,Wandern
LOCATION:Rathaus Engstlatt\, Im Hof 9\, Balingen\, Baden-Württemberg\, 723
 36\, Deutschland
X-APPLE-STRUCTURED-LOCATION;VALUE=URI;X-ADDRESS=Im Hof 9\, Balingen\, Baden
 -Württemberg\, 72336\, Deutschland;X-APPLE-RADIUS=100;X-TITLE=Rathaus Eng
 stlatt:geo:0,0
END:VEVENT
BEGIN:VTIMEZONE
TZID:Europe/Berlin
X-LIC-LOCATION:Europe/Berlin
BEGIN:DAYLIGHT
DTSTART:20260329T030000
TZOFFSETFROM:+0100
TZOFFSETTO:+0200
TZNAME:CEST
END:DAYLIGHT
END:VTIMEZONE
END:VCALENDAR