BEGIN:VCALENDAR
VERSION:2.0
PRODID:-//wp-events-plugin.com//6.4.6.4//EN
TZID:Europe/Berlin
X-WR-TIMEZONE:Europe/Berlin
BEGIN:VEVENT
UID:140@albverein-engstlatt.de
DTSTART;TZID=Europe/Berlin:20261209T133000
DTEND;TZID=Europe/Berlin:20261209T133000
DTSTAMP:20260123T162154Z
URL:https://albverein-engstlatt.de/events/mittwochswandertreff-9/
SUMMARY:Mittwochswandertreff.
DESCRIPTION:Am Mittwoch\, 09. Dezember\, lädt der Albverein zu einer klein
 en Wanderung bei Engstlatt ein. Treffpunkt ist um 13.30 Uhr beim Rathaus i
 n Engstlatt. Die Führung hat Beate Wuhrer. Ab 15.00 Uhr findet der Jahres
 abschluss im Albvereinsraum im Rathaus in Engstlatt auch für ehemalige Wa
 nderer und Nichtwanderer statt.
CATEGORIES:Mittwochswanderung
LOCATION:Rathaus Engstlatt\, Im Hof 9\, Balingen\, Baden-Württemberg\, 723
 36\, Deutschland
X-APPLE-STRUCTURED-LOCATION;VALUE=URI;X-ADDRESS=Im Hof 9\, Balingen\, Baden
 -Württemberg\, 72336\, Deutschland;X-APPLE-RADIUS=100;X-TITLE=Rathaus Eng
 stlatt:geo:0,0
END:VEVENT
BEGIN:VTIMEZONE
TZID:Europe/Berlin
X-LIC-LOCATION:Europe/Berlin
BEGIN:STANDARD
DTSTART:20261025T020000
TZOFFSETFROM:+0200
TZOFFSETTO:+0100
TZNAME:CET
END:STANDARD
END:VTIMEZONE
END:VCALENDAR