BEGIN:VCALENDAR
VERSION:2.0
PRODID:-//wp-events-plugin.com//6.4.6.4//EN
TZID:Europe/Berlin
X-WR-TIMEZONE:Europe/Berlin
BEGIN:VEVENT
UID:107@albverein-engstlatt.de
DTSTART;TZID=Europe/Berlin:20260314T180000
DTEND;TZID=Europe/Berlin:20260314T220000
DTSTAMP:20251124T102903Z
URL:https://albverein-engstlatt.de/events/mitgliederversammlung-2/
SUMMARY:Mitgliederversammlung.
DESCRIPTION:Am Samstag\, 14. März\, um 19.00 Uhr findet die diesjährige M
 itgliederversammlung im Gasthaus Ochsen in Engstlatt statt. Tagesordnung: 
 Begrüßung. Rückblick mit den Berichten. Entlastung. Verschiedenes. Antr
 äge zur Mitgliederversammlung müssen spätestens 14 Tage vor der Versamm
 lung schriftlich zugegangen sein. Bitte nutzen Sie schon ab 18.00 Uhr die 
 Zeit zur Einkehr.
CATEGORIES:Heimat &amp; Kultur,Veranstaltung
LOCATION:Gasthaus Ochsen\, Schweizer Straße 1\, Balingen-Engstlatt\, Baden
 -Württemberg\, 72336\, Deutschland
X-APPLE-STRUCTURED-LOCATION;VALUE=URI;X-ADDRESS=Schweizer Straße 1\, Balin
 gen-Engstlatt\, Baden-Württemberg\, 72336\, Deutschland;X-APPLE-RADIUS=10
 0;X-TITLE=Gasthaus Ochsen:geo:0,0
END:VEVENT
BEGIN:VTIMEZONE
TZID:Europe/Berlin
X-LIC-LOCATION:Europe/Berlin
BEGIN:STANDARD
DTSTART:20251026T020000
TZOFFSETFROM:+0200
TZOFFSETTO:+0100
TZNAME:CET
END:STANDARD
END:VTIMEZONE
END:VCALENDAR