BEGIN:VCALENDAR
VERSION:2.0
PRODID:-//wp-events-plugin.com//6.4.6.4//EN
TZID:Europe/Berlin
X-WR-TIMEZONE:Europe/Berlin
BEGIN:VEVENT
UID:110@albverein-engstlatt.de
DTSTART;TZID=Europe/Berlin:20260406T110000
DTEND;TZID=Europe/Berlin:20260406T180000
DTSTAMP:20251127T093352Z
URL:https://albverein-engstlatt.de/events/halbtageswanderung/
SUMMARY:Halbtageswanderung
DESCRIPTION:Am Ostermontag\, 6. April\, lädt der Albverein zu der Traditio
 nswanderung auf den Hundsrücken nach Streichen ein. Die Strecke ist 14 km
  lang und die Gehzeit beträgt 4 Stunden. Rucksackvesper mitnehmen. Treffp
 unkt ist um 11.00 Uhr am Bahnübergang in Engstlatt. Die Führung hat Isol
 de Schwarz.
CATEGORIES:Halbtageswanderung,Wandern
LOCATION:Bahnübergang\, Meisterstraße 38\, Balingen-Engstlatt\, Baden-W
 ürttemberg\, 72336\, Deutschland
X-APPLE-STRUCTURED-LOCATION;VALUE=URI;X-ADDRESS=Meisterstraße 38\, Balinge
 n-Engstlatt\, Baden-Württemberg\, 72336\, Deutschland;X-APPLE-RADIUS=100;
 X-TITLE=Bahnübergang:geo:0,0
END:VEVENT
BEGIN:VTIMEZONE
TZID:Europe/Berlin
X-LIC-LOCATION:Europe/Berlin
BEGIN:DAYLIGHT
DTSTART:20260329T030000
TZOFFSETFROM:+0100
TZOFFSETTO:+0200
TZNAME:CEST
END:DAYLIGHT
END:VTIMEZONE
END:VCALENDAR