BEGIN:VCALENDAR
VERSION:2.0
PRODID:-//wp-events-plugin.com//6.4.6.4//EN
TZID:Europe/Berlin
X-WR-TIMEZONE:Europe/Berlin
BEGIN:VEVENT
UID:105@albverein-engstlatt.de
DTSTART;TZID=Europe/Berlin:20260215T130000
DTEND;TZID=Europe/Berlin:20260215T180000
DTSTAMP:20251124T102019Z
URL:https://albverein-engstlatt.de/events/halbtageswanderung-bei-schoember
 g/
SUMMARY:Halbtageswanderung bei Schömberg
DESCRIPTION:Am Sonntag\, 15. Februar\, lädt der Albverein zu einer Wanderu
 ng bei Schömberg\, auf dem Honau Rundweg ein. Die Strecke: Stausee – Un
 tere Säge – Obere Säge – Ölmühle – Weilen u. d. R. – Schömber
 g. Die Strecke ist 8 km lang mit 110 Höhenmetern und die Gehzeit beträgt
  2\,5 Stunden. Die Anfahrt erfolgt mit Privatauto. Mitfahrgelegenheit ist 
 gegeben. Abfahrt ist um 13.00 Uhr am Bahnhof in Engstlatt. Die Führung ha
 t Isolde Schwarz
CATEGORIES:Halbtageswanderung,Wandern
LOCATION:Bahnhof Engstlatt\, Kleine Hörnlestraße\, Balingen-Engstlatt\, B
 aden-Württemberg\, 72336\, Deutschland
X-APPLE-STRUCTURED-LOCATION;VALUE=URI;X-ADDRESS=Kleine Hörnlestraße\, Bal
 ingen-Engstlatt\, Baden-Württemberg\, 72336\, Deutschland;X-APPLE-RADIUS=
 100;X-TITLE=Bahnhof Engstlatt:geo:0,0
END:VEVENT
BEGIN:VTIMEZONE
TZID:Europe/Berlin
X-LIC-LOCATION:Europe/Berlin
BEGIN:STANDARD
DTSTART:20251026T020000
TZOFFSETFROM:+0200
TZOFFSETTO:+0100
TZNAME:CET
END:STANDARD
END:VTIMEZONE
END:VCALENDAR