BEGIN:VCALENDAR
VERSION:2.0
PRODID:-//wp-events-plugin.com//6.4.6.4//EN
TZID:Europe/Berlin
X-WR-TIMEZONE:Europe/Berlin
BEGIN:VEVENT
UID:137@albverein-engstlatt.de
DTSTART;TZID=Europe/Berlin:20261115T120000
DTEND;TZID=Europe/Berlin:20261115T120000
DTSTAMP:20251208T100735Z
URL:https://albverein-engstlatt.de/events/halbtageswanderung-bei-hundersin
 gen/
SUMMARY:Halbtageswanderung bei Hundersingen
DESCRIPTION:Am Sonntag\, 15. November\, lädt der Albverein zu einer Wander
 ung bei Hundersingen\, auf dem archäologischen Rundwanderweg ein. Die Str
 ecke: Hundersingen – Freilichtmuseum Heuneburg – Gießübel Talhau –
  Homichele – Viereckschanze – Hundersingen. Die Strecke ist 11 km lang
  mit 200 Höhenmetern und die Gehzeit beträgt 3\,5 Stunden. Die Anfahrt e
 rfolgt mit Privatauto. Mitfahrgelegenheit ist gegeben. Abfahrt ist um 12.0
 0 Uhr am Bahnhof in Engstlatt. Die Führung hat Wolfgang Schwarz.
CATEGORIES:Halbtageswanderung
LOCATION:Bahnhof Engstlatt\, Kleine Hörnlestraße\, Balingen-Engstlatt\, B
 aden-Württemberg\, 72336\, Deutschland
X-APPLE-STRUCTURED-LOCATION;VALUE=URI;X-ADDRESS=Kleine Hörnlestraße\, Bal
 ingen-Engstlatt\, Baden-Württemberg\, 72336\, Deutschland;X-APPLE-RADIUS=
 100;X-TITLE=Bahnhof Engstlatt:geo:0,0
END:VEVENT
BEGIN:VTIMEZONE
TZID:Europe/Berlin
X-LIC-LOCATION:Europe/Berlin
BEGIN:STANDARD
DTSTART:20261025T020000
TZOFFSETFROM:+0200
TZOFFSETTO:+0100
TZNAME:CET
END:STANDARD
END:VTIMEZONE
END:VCALENDAR