BEGIN:VCALENDAR
VERSION:2.0
PRODID:-//wp-events-plugin.com//6.4.6.4//EN
TZID:Europe/Berlin
X-WR-TIMEZONE:Europe/Berlin
BEGIN:VEVENT
UID:108@albverein-engstlatt.de
DTSTART;TZID=Europe/Berlin:20260315T120000
DTEND;TZID=Europe/Berlin:20260315T180000
DTSTAMP:20251127T092802Z
URL:https://albverein-engstlatt.de/events/halbtageswanderung-bei-binsdorf/
SUMMARY:Halbtageswanderung bei Binsdorf
DESCRIPTION:Am Sonntag\, 15. März\, lädt der Albverein zu einer Wanderung
  bei Binsdorf\, auf dem Kapellenweg ein. Die Strecke: Loretokapelle – Er
 laheimer Eiche – Josefskapelle – Drei Kreuze – Friedhof Binsdorf. Di
 e Strecke ist 10 km lang mit 180 Höhenmetern und die Gehzeit beträgt 3\,
 5 Stunden. Die Anfahrt erfolgt mit Privatauto. Mitfahrgelegenheit ist gege
 ben. Abfahrt ist um 12.00 Uhr am Bahnhof in Engstlatt. Die Führung hat Wo
 lfgang Schwarz.
CATEGORIES:Halbtageswanderung,Wandern
LOCATION:Bahnhof Engstlatt\, Kleine Hörnlestraße\, Balingen-Engstlatt\, B
 aden-Württemberg\, 72336\, Deutschland
X-APPLE-STRUCTURED-LOCATION;VALUE=URI;X-ADDRESS=Kleine Hörnlestraße\, Bal
 ingen-Engstlatt\, Baden-Württemberg\, 72336\, Deutschland;X-APPLE-RADIUS=
 100;X-TITLE=Bahnhof Engstlatt:geo:0,0
END:VEVENT
BEGIN:VTIMEZONE
TZID:Europe/Berlin
X-LIC-LOCATION:Europe/Berlin
BEGIN:STANDARD
DTSTART:20251026T020000
TZOFFSETFROM:+0200
TZOFFSETTO:+0100
TZNAME:CET
END:STANDARD
END:VTIMEZONE
END:VCALENDAR