BEGIN:VCALENDAR
VERSION:2.0
PRODID:-//wp-events-plugin.com//6.4.6.4//EN
TZID:Europe/Berlin
X-WR-TIMEZONE:Europe/Berlin
BEGIN:VEVENT
UID:134@albverein-engstlatt.de
DTSTART;TZID=Europe/Berlin:20261018T120000
DTEND;TZID=Europe/Berlin:20261018T120000
DTSTAMP:20251208T100208Z
URL:https://albverein-engstlatt.de/events/halbtageswanderung-2/
SUMMARY:Halbtageswanderung.
DESCRIPTION:Am Sonntag\, 18. Oktober\, lädt der Albverein zu einer Wanderu
 ng von Engstlatt nach Heselwangen ein. Die Strecke: Engstlatt – Berg –
  Rosenhof – Schützenhaus – rechts in den Wald – bis zum Streichener
  Sträßle – rechts nach Heselwangen – und zurück. Die Strecke ist 12
  km lang mit 135 Höhenmetern und die Gehzeit beträgt 4 Stunden. Treffpun
 kt ist um 12.00 Uhr am Bahnhof in Engstlatt. Die Führung hat Isolde Schwa
 rz.
CATEGORIES:Halbtageswanderung
LOCATION:Bahnhof Engstlatt\, Kleine Hörnlestraße\, Balingen-Engstlatt\, B
 aden-Württemberg\, 72336\, Deutschland
X-APPLE-STRUCTURED-LOCATION;VALUE=URI;X-ADDRESS=Kleine Hörnlestraße\, Bal
 ingen-Engstlatt\, Baden-Württemberg\, 72336\, Deutschland;X-APPLE-RADIUS=
 100;X-TITLE=Bahnhof Engstlatt:geo:0,0
END:VEVENT
BEGIN:VTIMEZONE
TZID:Europe/Berlin
X-LIC-LOCATION:Europe/Berlin
BEGIN:DAYLIGHT
DTSTART:20260329T030000
TZOFFSETFROM:+0100
TZOFFSETTO:+0200
TZNAME:CEST
END:DAYLIGHT
END:VTIMEZONE
END:VCALENDAR