BEGIN:VCALENDAR
VERSION:2.0
PRODID:-//wp-events-plugin.com//6.4.6.4//EN
TZID:Europe/Berlin
X-WR-TIMEZONE:Europe/Berlin
BEGIN:VEVENT
UID:133@albverein-engstlatt.de
DTSTART;TZID=Europe/Berlin:20261010T180000
DTEND;TZID=Europe/Berlin:20261010T180000
DTSTAMP:20251208T100316Z
URL:https://albverein-engstlatt.de/events/familien-und-nachtwanderung-2/
SUMMARY:Familien- und Nachtwanderung.
DESCRIPTION:Am Samstag\, 10. Oktober\, lädt der Albverein zu einer Wanderu
 ng mit Bewirtung und Fackelzug ein. Die Strecke ist ca. 7 km lang und die 
 Gehzeit beträgt ca. 2\,5 Stunden. Treffpunkt ist um 18.00 Uhr am Rathaus 
 in Engstlatt. Die Führung hat Sandra und Marc Fritz.
CATEGORIES:Familie,Jugend,Wandern
LOCATION:Rathaus Engstlatt\, Im Hof 9\, Balingen\, Baden-Württemberg\, 723
 36\, Deutschland
X-APPLE-STRUCTURED-LOCATION;VALUE=URI;X-ADDRESS=Im Hof 9\, Balingen\, Baden
 -Württemberg\, 72336\, Deutschland;X-APPLE-RADIUS=100;X-TITLE=Rathaus Eng
 stlatt:geo:0,0
END:VEVENT
BEGIN:VTIMEZONE
TZID:Europe/Berlin
X-LIC-LOCATION:Europe/Berlin
BEGIN:DAYLIGHT
DTSTART:20260329T030000
TZOFFSETFROM:+0100
TZOFFSETTO:+0200
TZNAME:CEST
END:DAYLIGHT
END:VTIMEZONE
END:VCALENDAR