BEGIN:VCALENDAR
VERSION:2.0
PRODID:-//wp-events-plugin.com//6.4.6.4//EN
TZID:Europe/Berlin
X-WR-TIMEZONE:Europe/Berlin
BEGIN:VEVENT
UID:124@albverein-engstlatt.de
DTSTART;TZID=Europe/Berlin;VALUE=DATE:20260718
DTEND;TZID=Europe/Berlin;VALUE=DATE:20260719
DTSTAMP:20251127T102420Z
URL:https://albverein-engstlatt.de/events/busausfahrt-ins-kraichgau/
SUMMARY:Busausfahrt ins Kraichgau
DESCRIPTION:Am Samstag\, 18. Juli\, lädt der Albverein zu einer Ausfahrt n
 ach Maulbronn ins Weingebiet Kraichgau - Stromberg ein. Mit Essen und Wein
 verkostung im Weingut Kern in Oberderdingen. Anmeldung erforderlich. Info 
 und Anmeldung bei Isolde und Wolfgang Schwarz\, Tel. 07433 / 273260.
CATEGORIES:Besichtigung,Veranstaltung
END:VEVENT
BEGIN:VTIMEZONE
TZID:Europe/Berlin
X-LIC-LOCATION:Europe/Berlin
BEGIN:DAYLIGHT
DTSTART:20260329T030000
TZOFFSETFROM:+0100
TZOFFSETTO:+0200
TZNAME:CEST
END:DAYLIGHT
END:VTIMEZONE
END:VCALENDAR