BEGIN:VCALENDAR
VERSION:2.0
PRODID:-//wp-events-plugin.com//6.4.6.4//EN
TZID:Europe/Berlin
X-WR-TIMEZONE:Europe/Berlin
BEGIN:VEVENT
UID:139@albverein-engstlatt.de
DTSTART;TZID=Europe/Berlin:20261206T130000
DTEND;TZID=Europe/Berlin:20261206T130000
DTSTAMP:20251208T100955Z
URL:https://albverein-engstlatt.de/events/barbarawanderung-2/
SUMMARY:Barbarawanderung.
DESCRIPTION:Am Sonntag\, 6. Dezember\, lädt der Albverein zu einer Wanderu
 ng rund um Engstlatt mit Einkehr im Albvereinsraum im Rathaus in Engstlatt
  ein. Treffpunkt ist um 13.00 Uhr am Rathaus in Engstlatt. Die Führung ha
 t Isolde Schwarz.
CATEGORIES:Halbtageswanderung
LOCATION:Rathaus Engstlatt\, Im Hof 9\, Balingen\, Baden-Württemberg\, 723
 36\, Deutschland
X-APPLE-STRUCTURED-LOCATION;VALUE=URI;X-ADDRESS=Im Hof 9\, Balingen\, Baden
 -Württemberg\, 72336\, Deutschland;X-APPLE-RADIUS=100;X-TITLE=Rathaus Eng
 stlatt:geo:0,0
END:VEVENT
BEGIN:VTIMEZONE
TZID:Europe/Berlin
X-LIC-LOCATION:Europe/Berlin
BEGIN:STANDARD
DTSTART:20261025T020000
TZOFFSETFROM:+0200
TZOFFSETTO:+0100
TZNAME:CET
END:STANDARD
END:VTIMEZONE
END:VCALENDAR