BEGIN:VCALENDAR
VERSION:2.0
PRODID:-//wp-events-plugin.com//6.4.6.4//EN
TZID:Europe/Berlin
X-WR-TIMEZONE:Europe/Berlin
BEGIN:VEVENT
UID:125@albverein-engstlatt.de
DTSTART;TZID=Europe/Berlin;VALUE=DATE:20260724
DTEND;TZID=Europe/Berlin;VALUE=DATE:20260727
DTSTAMP:20251127T101053Z
URL:https://albverein-engstlatt.de/events/9-familienfreizeit/
SUMMARY:9. Familienfreizeit
DESCRIPTION:Vom Freitag\, 24. Juli bis Sonntag\, 26. Juli\, lädt der Albve
 rein zur Freizeit auf dem Gritthof in Sigiswang / Allgäu ein. Anmeldung e
 rforderlich. Info und Anmeldung bei Sandra und Marc Fritz\, Tel. 07433 / 9
 032982.
CATEGORIES:Familie,Jugend,Natur,Veranstaltung
END:VEVENT
BEGIN:VTIMEZONE
TZID:Europe/Berlin
X-LIC-LOCATION:Europe/Berlin
BEGIN:DAYLIGHT
DTSTART:20260329T030000
TZOFFSETFROM:+0100
TZOFFSETTO:+0200
TZNAME:CEST
END:DAYLIGHT
END:VTIMEZONE
END:VCALENDAR