BEGIN:VCALENDAR
VERSION:2.0
PRODID:-//wp-events-plugin.com//6.4.6.4//EN
TZID:Europe/Berlin
X-WR-TIMEZONE:Europe/Berlin
BEGIN:VEVENT
UID:141@albverein-engstlatt.de
DTSTART;TZID=Europe/Berlin:20261220T170000
DTEND;TZID=Europe/Berlin:20261220T170000
DTSTAMP:20251208T101322Z
URL:https://albverein-engstlatt.de/events/57-dorfweihnacht/
SUMMARY:57. Dorfweihnacht
DESCRIPTION:Nach dem Krippenspiel der Kirche. Am Sonntag\, 20. Dezember wir
 d die Dorfweihnacht mit Bewirtung auf dem Dorfplatz beim Rathaus in Engstl
 att gefeiert. Die Veranstaltung findet unter Mitwirkung der Bläsergruppe 
 der Jugendkapelle des Musikvereins statt. Bewirtung ab 16.45 Uhr. Beginn d
 er Dorfweihnacht um 17.00 Uhr. Auch dieses Jahr gibt es wieder die selbstg
 emachten Geschenksäckle. Die Kinder dürfen sich darauf freuen\, dass auc
 h dieses Jahr wieder Nikolaus und sein Knecht Ruprecht nach Engstlatt komm
 en. Damit sie in ihren großen Säcken auch genügend Geschenke mitbringen
 \, hier ein Hinweis an alle Eltern\, Großeltern\, Tanten und Onkels: Guts
 cheine für die selbst gemachten Geschenksäckle gibt es für 6 € bei de
 r Bäckerei Koch in Engstlatt. Der Preis ist inklusive 1 € Pfand für da
 s genähte Stoffsäckle. Nach der Dorfweihnacht können die Stoffsäckle w
 ieder bei der Bäckerei Koch abgegeben werden und sie bekommen das Pfand z
 urückerstattet.
CATEGORIES:Heimat &amp; Kultur,Veranstaltung
LOCATION:Rathaus Engstlatt\, Im Hof 9\, Balingen\, Baden-Württemberg\, 723
 36\, Deutschland
X-APPLE-STRUCTURED-LOCATION;VALUE=URI;X-ADDRESS=Im Hof 9\, Balingen\, Baden
 -Württemberg\, 72336\, Deutschland;X-APPLE-RADIUS=100;X-TITLE=Rathaus Eng
 stlatt:geo:0,0
END:VEVENT
BEGIN:VTIMEZONE
TZID:Europe/Berlin
X-LIC-LOCATION:Europe/Berlin
BEGIN:STANDARD
DTSTART:20261025T020000
TZOFFSETFROM:+0200
TZOFFSETTO:+0100
TZNAME:CET
END:STANDARD
END:VTIMEZONE
END:VCALENDAR