BEGIN:VCALENDAR
VERSION:2.0
PRODID:-//wp-events-plugin.com//6.4.6.4//EN
TZID:Europe/Berlin
X-WR-TIMEZONE:Europe/Berlin
BEGIN:VEVENT
UID:115@albverein-engstlatt.de
DTSTART;TZID=Europe/Berlin:20260430T190000
DTEND;TZID=Europe/Berlin:20260430T190000
DTSTAMP:20251127T094649Z
URL:https://albverein-engstlatt.de/events/51-maibaum-aufstellen/
SUMMARY:51. Maibaum aufstellen
DESCRIPTION:Am Donnerstag\, 30. April\, lädt der Albverein zum Maibaum auf
 stellen vor dem Rathaus in Engstlatt ein. Die Veranstaltung findet unter M
 itwirkung des Musikvereins und der Narrenzunft Sandsäcke statt. Beginn is
 t um 19.00 Uhr auf dem Dorfplatz in Engstlatt. Die musikalische Unterhaltu
 ng übernimmt der Musikverein mit einem Platzkonzert. Die Bewirtung erfolg
 t durch die Narrenzunft Sandsäcke und im Gasthaus Ochsen.
CATEGORIES:Familie,Heimat &amp; Kultur,Veranstaltung
LOCATION:Rathaus Engstlatt\, Im Hof 9\, Balingen\, Baden-Württemberg\, 723
 36\, Deutschland
X-APPLE-STRUCTURED-LOCATION;VALUE=URI;X-ADDRESS=Im Hof 9\, Balingen\, Baden
 -Württemberg\, 72336\, Deutschland;X-APPLE-RADIUS=100;X-TITLE=Rathaus Eng
 stlatt:geo:0,0
END:VEVENT
BEGIN:VTIMEZONE
TZID:Europe/Berlin
X-LIC-LOCATION:Europe/Berlin
BEGIN:DAYLIGHT
DTSTART:20260329T030000
TZOFFSETFROM:+0100
TZOFFSETTO:+0200
TZNAME:CEST
END:DAYLIGHT
END:VTIMEZONE
END:VCALENDAR